BEGIN:VCALENDAR
VERSION:2.0
PRODID:-//NIT Blog - ECPv6.15.20//NONSGML v1.0//EN
CALSCALE:GREGORIAN
METHOD:PUBLISH
X-ORIGINAL-URL:https://nit-istanbul.net
X-WR-CALDESC:Events for NIT Blog
REFRESH-INTERVAL;VALUE=DURATION:PT1H
X-Robots-Tag:noindex
X-PUBLISHED-TTL:PT1H
BEGIN:VTIMEZONE
TZID:Europe/Istanbul
BEGIN:STANDARD
TZOFFSETFROM:+0300
TZOFFSETTO:+0300
TZNAME:+03
DTSTART:20230101T000000
END:STANDARD
END:VTIMEZONE
BEGIN:VTIMEZONE
TZID:UTC
BEGIN:STANDARD
TZOFFSETFROM:+0000
TZOFFSETTO:+0000
TZNAME:UTC
DTSTART:20220101T000000
END:STANDARD
END:VTIMEZONE
BEGIN:VTIMEZONE
TZID:Europe/Paris
BEGIN:DAYLIGHT
TZOFFSETFROM:+0100
TZOFFSETTO:+0200
TZNAME:CEST
DTSTART:20220327T010000
END:DAYLIGHT
BEGIN:STANDARD
TZOFFSETFROM:+0200
TZOFFSETTO:+0100
TZNAME:CET
DTSTART:20221030T010000
END:STANDARD
BEGIN:DAYLIGHT
TZOFFSETFROM:+0100
TZOFFSETTO:+0200
TZNAME:CEST
DTSTART:20230326T010000
END:DAYLIGHT
BEGIN:STANDARD
TZOFFSETFROM:+0200
TZOFFSETTO:+0100
TZNAME:CET
DTSTART:20231029T010000
END:STANDARD
BEGIN:DAYLIGHT
TZOFFSETFROM:+0100
TZOFFSETTO:+0200
TZNAME:CEST
DTSTART:20240331T010000
END:DAYLIGHT
BEGIN:STANDARD
TZOFFSETFROM:+0200
TZOFFSETTO:+0100
TZNAME:CET
DTSTART:20241027T010000
END:STANDARD
END:VTIMEZONE
BEGIN:VEVENT
DTSTART;TZID=Europe/Istanbul:20240403T183000
DTEND;TZID=Europe/Istanbul:20240403T193000
DTSTAMP:20260420T094146
CREATED:20240402T120315Z
LAST-MODIFIED:20240402T120315Z
UID:1337-1712169000-1712172600@nit-istanbul.net
SUMMARY:Freedom in slavery. Status and agency in inscribed epigrams from the Greek East\, 3rd cent BC - 3rd cent AD
DESCRIPTION:
URL:https://nit-istanbul.net/index.php/event/freedom-in-slavery-status-and-agency-in-inscribed-epigrams-from-the-greek-east-3rd-cent-bc-3rd-cent-ad/
LOCATION:Anamed Auditorium\, Tomtom Mah. İstiklal Caddesi\, Istanbul\, Türkiye\, 34433\, Turkey
CATEGORIES:Events
END:VEVENT
BEGIN:VEVENT
DTSTART;TZID=UTC:20231213T150000
DTEND;TZID=UTC:20231213T163000
DTSTAMP:20260420T094146
CREATED:20240214T083150Z
LAST-MODIFIED:20240214T083150Z
UID:1239-1702479600-1702485000@nit-istanbul.net
SUMMARY:NINO/EOL Lecture: De dorstige stad. Water in historisch Constantinopel en hedendaags Istanbul
DESCRIPTION:In this lecture\, Fokke Gerritsen (director at the Netherlands Institute in Turkey) will discuss Constantinople’s water supply through the centuries and the rich material and immaterial heritage in the city that bears witness to this. The second part of the lecture deals with the initiatives and plans currently being developed as part of the Urban Heritage Lab at the Netherlands Institute in Turkey in which water heritage occupies a central place. These initiatives have a dual purpose: to increase interest in water heritage and to develop strategies through which water heritage can help raise awareness of the current climate and water crisis.\nThe lecture will be in Dutch. Come to the National Museum of Antiquities (Leemans Room) or follow the lecture online via livestream. \nThis lecture is part of the NIT day in Leiden. Go here for the full program of the day.
URL:https://nit-istanbul.net/index.php/event/nino-eol-lecture-de-dorstige-stad-water-in-historisch-constantinopel-en-hedendaags-istanbul/
LOCATION:RMO\, National Museum of Antiquities in Leiden\, Rapenburg 28\, Leiden\, 2311 EW\, Netherlands
CATEGORIES:Events
ATTACH;FMTTYPE=image/jpeg:https://nit-istanbul.net/wp-content/uploads/2023/11/NIT_day_poster_Gerritsen.jpg
END:VEVENT
BEGIN:VEVENT
DTSTART;TZID=UTC:20231213T133000
DTEND;TZID=UTC:20231213T150000
DTSTAMP:20260420T094146
CREATED:20240214T082605Z
LAST-MODIFIED:20240214T082639Z
UID:1236-1702474200-1702479600@nit-istanbul.net
SUMMARY:Lightning Presentations
DESCRIPTION:NIT’s former fellows\, students and interns will present a series of lightning presentations within the theme of Urban Studies during the NIT Day in Leiden on 13 December 2023\, between 13:30 – 15:00. Please join us to hear about their research and experience at NIT in Istanbul. \nJulia Benedetti  – My semester abroad in Istanbul \nGabriël Sel – The gentrification of Tarlabaşı and its resistance \nAhmet Can Karapınar  – In Beloved Memory Of.  Documenting Istanbul’s Feriköy Protestant Cemetery on the Spot \nSelin Tuzgöl – Between Visibility and Invisibility: A Study into Dutch Foreign Funding for LGBTI+ Activism in Turkey \nAlvise Cecchetti  – The UHL Water Heritage Program: An Insider’s View \nBurcu Köken – Certain Losses\, Possible Healings: The Architectural Recovery Team in Post-Earthquake Hatay \nApart from the Lightning Presentations\, there will be lectures and presentations on Istanbul throughout the day. You can find the whole program of the day here.
URL:https://nit-istanbul.net/index.php/event/1236/
LOCATION:RMO\, National Museum of Antiquities in Leiden\, Rapenburg 28\, Leiden\, 2311 EW\, Netherlands
CATEGORIES:Events
ATTACH;FMTTYPE=image/jpeg:https://nit-istanbul.net/wp-content/uploads/2023/11/NIT_day_poster_square_lightning.jpg
END:VEVENT
BEGIN:VEVENT
DTSTART;TZID=Europe/Paris:20231213T103000
DTEND;TZID=Europe/Paris:20231213T120000
DTSTAMP:20260420T094146
CREATED:20240214T083432Z
LAST-MODIFIED:20240214T083455Z
UID:1241-1702463400-1702468800@nit-istanbul.net
SUMMARY:Istanbul’s Panoramic Constructions and Destructions: Notes from On the Spot\, by Mehmet Kentel
DESCRIPTION:This lecture explores how Istanbul was imagined in the panoramic medium\, from early modern prospects to purposefully-built rotundas in the modern times\, based on the exhibition On the Spot: Panoramic Gaze on Istanbul\, a History recently opened at Pera Museum\, Istanbul\, co-curated by Çiğdem Kafescioğlu\, K. Mehmet Kentel\, and M. Baha Tanman. In the second part of the lecture I talk about a specific episode of this long history of panoramic imaginations: the panoramic photographs of the 1870 Fire of Pera and their forensic aesthetic\, reflecting on our contribution to the exhibition catalogue with Ahmet A. Ersoy. \nThe lecture will be in English. Come to the National Museum of Antiquities (Leemans Room) to follow the lecture.
URL:https://nit-istanbul.net/index.php/event/istanbuls-panoramic-constructions-and-destructions-notes-from-on-the-spot-by-mehmet-kentel/
LOCATION:RMO\, National Museum of Antiquities in Leiden\, Rapenburg 28\, Leiden\, 2311 EW\, Netherlands
CATEGORIES:Events
ATTACH;FMTTYPE=image/jpeg:https://nit-istanbul.net/wp-content/uploads/2023/11/NIT_day_Kentel.jpg
END:VEVENT
BEGIN:VEVENT
DTSTART;TZID=Europe/Paris:20231213T000000
DTEND;TZID=Europe/Paris:20231213T235959
DTSTAMP:20260420T094146
CREATED:20240214T082001Z
LAST-MODIFIED:20240214T082001Z
UID:1233-1702425600-1702511999@nit-istanbul.net
SUMMARY:NIT Day in Leiden
DESCRIPTION:Are you interested in Archaeology\, Ancient to Modern History\, Cultural Heritage\, or Urban Studies? This event is for you! \nCome and meet with NIT Staff at Leiden University. \nDuring the NIT day\, NIT staff\, guest researchers\, and students present their projects and studies. The theme of the day is Urban Studies of Istanbul. Mehmet Kentel (Institute for History & Urban Studies\, Leiden University) will talk about the many panorama paintings that were made over the centuries of Istanbul and about his work on a newly opened exhibition on this topic. Fokke Gerritsen (NIT\, LIAS) will present a lecture\, co-organized with NINO and EOL\, about water heritage in Istanbul and an ongoing project to increase the appreciation of water heritage in times of climate and water crisis. \nTijdens de NIT dag vertellen stafleden\, gastonderzoekers en studenten over hun onderzoeksprojecten en studieactiviteiten. Speciaal thema van de dag is ‘Urban Studies of Istanbul’. Mehmet Kentel (Institute for History &Urban Studies\, Leiden University) vertelt over de vele panorama’s die gedurende verschillende eeuwen van Istanbul geschilderd zijn en zijn werk aan een net geopende tentoonstelling hierover. Fokke Gerritsen (NIT\, LIAS) geeft een lezing\, samen met NINO en EOL georganiseerd\, over watererfgoed en over een project om de waardering van dit erfgoed te vergroten tijdens de huidige klimaat- en watercrisis. \nProgram \n10:00 – 10:30     Doors open\, coffee/tea \n10:30 – 11:00     Fokke Gerritsen: NIT activities in 2022-2023 \n11:00 – 12:00     Lecture Mehmet Kentel Istanbul’s Panoramic Constructions and Destructions: Notes from On the Spot \n12:00 – 13:30     Lunch break \n13:30 – 15:00     Lightning presentations by Julia Benedetti\, Alvise Cecchetti\, Ahmet Can Karapınar\, Gabriël Sel\, Burcu Köken\, Selin Tuzgöl \n15:00 – 15:30     Coffee/tea break \n15:30 – 16:30     NINO/EOL Lecture Fokke Gerritsen De dorstige stad. Water in historisch Constantinopel en hedendaags Istanbul \n16:30                    Program end \nThe event is open to everyone. You are also welcome to walk in to join one or two presentations. Participation is free\, and it is not necessary to buy a museum ticket. Presentations are held in the language in which they appear in the program. \nIedereen is welkom\, binnenlopen bij een of enkele presentaties is mogelijk. Deelname is gratis en er hoeft geen kaartje voor het museum gekocht worden. Presentaties worden gehouden in de taal waarin ze aangekondigd staan.
URL:https://nit-istanbul.net/index.php/event/nit-day-in-leiden/
LOCATION:RMO\, National Museum of Antiquities in Leiden\, Rapenburg 28\, Leiden\, 2311 EW\, Netherlands
CATEGORIES:Events
ATTACH;FMTTYPE=image/jpeg:https://nit-istanbul.net/wp-content/uploads/2023/11/NIT_day_poster_square_EN-1.jpg
END:VEVENT
END:VCALENDAR